BEGIN:VCALENDAR
VERSION:2.0
PRODID:-//Offene Grüne Liste Pleidelsheim - ECPv5.13.0//NONSGML v1.0//EN
CALSCALE:GREGORIAN
METHOD:PUBLISH
X-WR-CALNAME:Offene Grüne Liste Pleidelsheim
X-ORIGINAL-URL:https://www.offene-grüne-liste-pleidelsheim.de
X-WR-CALDESC:Veranstaltungen für Offene Grüne Liste Pleidelsheim
BEGIN:VTIMEZONE
TZID:Europe/Berlin
BEGIN:DAYLIGHT
TZOFFSETFROM:+0100
TZOFFSETTO:+0200
TZNAME:CEST
DTSTART:20200329T010000
END:DAYLIGHT
BEGIN:STANDARD
TZOFFSETFROM:+0200
TZOFFSETTO:+0100
TZNAME:CET
DTSTART:20201025T010000
END:STANDARD
END:VTIMEZONE
BEGIN:VEVENT
DTSTART;TZID=Europe/Berlin:20200325T190000
DTEND;TZID=Europe/Berlin:20200325T210000
DTSTAMP:20260423T172140
CREATED:20200311T073415Z
LAST-MODIFIED:20200311T165213Z
UID:896-1585162800-1585170000@www.offene-grüne-liste-pleidelsheim.de
SUMMARY:Wie geht es weiter mit SPNV im Land?
DESCRIPTION:Veranstaltung ist wegen Corona verschoben! \n  \nDie Fahrt mit der Regionalbahn ist für viele Pendlerinnen und Pendler zur täglichen Herausforderung geworden. Unerreichte Anschlüsse\, Verspätungen und Überfüllung\, sowie mangelnde Kundeninformation sorgen regelmäßig für große Frustration. Viele Fahrgäste sind unzufrieden und haben berechtigte Fragen. \nWelche Maßnahmen werden ergriffen\, um Verspätungen und Zugausfälle in den Griff zu bekommen? Wird es eine Entschädigung für Pendlerinnen und Pendler geben? Und wie müssen die Weichen für eine freie Fahrt im öffentlichen Nahverkehr gestellt werden? Um diese und andere Fragen zu diskutieren\, laden wir Euch herzlich ein zum Informationsabend: \nIm Rahmen der Veranstaltung wird es eine Podiumsdiskussion geben\, für die wir die folgenden Referenten gewinnen konnten: \nWinfried Hermann MdL (Minister für Verkehr Baden-Württemberg)\nMax Kaiser (Kaufmännischer Geschäftsleiter Go-Ahead Baden-Württemberg)\nRolf Schafferath (Geschäftsführer Abellio Baden-Württemberg) \nIm Anschluss an die Impulsvorträge der Referenten\, wird es die Gelegenheit für Fragen der Anwesenden geben.
URL:https://www.offene-grüne-liste-pleidelsheim.de/event/wie-geht-es-weiter-mit-spnv-im-land-und-der-region/
LOCATION:Bären\, Holzgartenstraße 1\, 74321 Bietigheim-Bissingen\, Holzgartenstraße 1\, Bietigheim\, Baden-Württemberg\, 74321\, Deutschland
END:VEVENT
END:VCALENDAR