BEGIN:VCALENDAR
VERSION:2.0
PRODID:-//Offene Grüne Liste Pleidelsheim - ECPv5.13.0//NONSGML v1.0//EN
CALSCALE:GREGORIAN
METHOD:PUBLISH
X-WR-CALNAME:Offene Grüne Liste Pleidelsheim
X-ORIGINAL-URL:https://www.offene-grüne-liste-pleidelsheim.de
X-WR-CALDESC:Veranstaltungen für Offene Grüne Liste Pleidelsheim
BEGIN:VTIMEZONE
TZID:Europe/Berlin
BEGIN:DAYLIGHT
TZOFFSETFROM:+0100
TZOFFSETTO:+0200
TZNAME:CEST
DTSTART:20200329T010000
END:DAYLIGHT
BEGIN:STANDARD
TZOFFSETFROM:+0200
TZOFFSETTO:+0100
TZNAME:CET
DTSTART:20201025T010000
END:STANDARD
END:VTIMEZONE
BEGIN:VEVENT
DTSTART;TZID=Europe/Berlin:20200219T190000
DTEND;TZID=Europe/Berlin:20200219T210000
DTSTAMP:20260423T140053
CREATED:20200204T084959Z
LAST-MODIFIED:20200204T084959Z
UID:870-1582138800-1582146000@www.offene-grüne-liste-pleidelsheim.de
SUMMARY:Ökologiekonzept Pleidelsheim: Einführungsabend für Pflanzenbörse
DESCRIPTION:Seit einigen Monaten gibt es Aufwind für die Ökologie in Pleidelsheim. In Koordination mit dem Umweltamt der Gemeinde wurden vier Arbeitsgruppen gebildet\, eine fünfte zum Thema „Ökologische Mobilität“ ist am Entstehen.  Die ersten öffentlichen Veranstaltungen wurden mit großem Engagement der Beteiligten durchgeführt\, neue Termine stehen fest oder sind in Planung. \nVon der Arbeitsgruppe „Gärten und Balkone insektenfreundlich“ gibt es am 19.Februar  um 19.00 Uhr im Sitzungssaal des Rathauses einen Vortrag. Zum Thema „Welche Pflanzen und Stauden sind ökologisch sinnvoll?“ wird Gärtnermeister und Gemeinderat Dieter Rohr einführen: \nWelche blühenden Pflanzen sind  wichtig für Insekten?\nWas bringen Balkonblumen im Blumenkasten?\nWelche Obst-  und Gemüsepflanzen sind bei Insekten besonders beliebt?\nWelche Pflanzen kann man gut teilen und weitergeben?\nWas muß man beim Teilen und Verpflanzen beachten? \nDiese und viele andere Fragen sollen im Vortrag und in der Fragerunde auch an Hand von einzelnen Beispielpflanzen besprochen werden. \nDer Einführungsabend gibt vor allem auch die Gelegenheit\, sich über Zweck und Ablauf der Pflanzentauschbörse zu informieren\, die am 7. März von 10 – 13 Uhr an der Wiegehalle stattfindet. Bei der Pflanzenbörse im März können auch einheimische Gehölze und selbst gezogene Pflanzen angeboten werden.  Auch wer nichts anzubieten hat\, kann einfach vorbeikommen. Bestimmt ist auch für sie etwas übrig! \nDoch bereits vorher ist die Arbeitsgruppe Insekten und Kleinlebewesen im Garten mit einer Veranstaltung aktiv. Am 29. Februar soll von 10 – 13 Uhr im Jugendhaus gebohrt\, gesägt und gehämmert werden. \n„Sei beim Bau von Igelhäusern\, Insektenhotels und Nisthilfen dabei!“ fordert die Arbeitsgruppe auf! Werkzeug wird benötigt: Stichsäge\, Bohrmaschine\, Akku-Schrauber\, etc.. Anmelden sollte man sich hier bis zum 22. Februar beim Umweltamt Pleidelsheim\, Annegret Bartenbach unter a.bartenbach@rathaus-pleidelsheim.de oder direkt beim Jugendhaus Pyramide unter mail@jugendhaus-pleidelsheim.de. \nWer bei diesen Aktionen und Arbeitsgruppen dabei sein möchte\, kann einfach vorbeikommen. Wer sich bei den anderen Arbeitsgruppen wie “ Steuobstwiesen blühen auf“ oder „Landwirtschaft / Gemeindeflächen“ einzubringen sich direkt an die Koordinatoren Albrecht Reuther (Streuobstwiesen) und Annegret Bartenbach (Landwirtschaft) wenden. \nDiese praktischen Ansätze sind sehr gute Gelegenheiten für alle sich einzubringen\, mitzumachen und nicht nur in theoretischen Konzepten zu verharren. Denn mehr Ökologie braucht es heute – nicht erst morgen\, und das nicht nur für Pleidelsheim! \nFür das Ökologiekonzept Pleidelsheim\nUwe  Rith
URL:https://www.offene-grüne-liste-pleidelsheim.de/event/oekologiekonzept-pleidelsheim-einfuehrungsabend-fuer-pflanzenboerse/
LOCATION:Pleidelsheim\, Rathaus\, Marbacher Straße 5\, Deutschland
END:VEVENT
END:VCALENDAR