BEGIN:VCALENDAR
VERSION:2.0
PRODID:-//Offene Grüne Liste Pleidelsheim - ECPv5.13.0//NONSGML v1.0//EN
CALSCALE:GREGORIAN
METHOD:PUBLISH
X-WR-CALNAME:Offene Grüne Liste Pleidelsheim
X-ORIGINAL-URL:https://www.offene-grüne-liste-pleidelsheim.de
X-WR-CALDESC:Veranstaltungen für Offene Grüne Liste Pleidelsheim
BEGIN:VTIMEZONE
TZID:Europe/Berlin
BEGIN:DAYLIGHT
TZOFFSETFROM:+0100
TZOFFSETTO:+0200
TZNAME:CEST
DTSTART:20200329T010000
END:DAYLIGHT
BEGIN:STANDARD
TZOFFSETFROM:+0200
TZOFFSETTO:+0100
TZNAME:CET
DTSTART:20201025T010000
END:STANDARD
END:VTIMEZONE
BEGIN:VEVENT
DTSTART;TZID=Europe/Berlin:20201125T190000
DTEND;TZID=Europe/Berlin:20201125T203000
DTSTAMP:20260421T104119
CREATED:20201119T070110Z
LAST-MODIFIED:20201119T070212Z
UID:933-1606330800-1606336200@www.offene-grüne-liste-pleidelsheim.de
SUMMARY:Klimaschutz - wie weiter in BaWü?
DESCRIPTION:Auch wenn uns die Corona-Krise fordert\, wissen wir\, dass die Klimakrise nicht verschwunden ist. Die Klimakrise können wir auch nicht einfach wegimpfen. In den nächsten Jahren muss es gelingen\, Klimaschutz und Wirtschaft weiter zusammenzubringen\, um unseren Wohlstand im Land halten zu können. \nWie kann unser Bundesland schnellstmöglich klimaneutral werden? Ist das neue Klimaschutzgesetz mutig genug?\nWelche Rolle spielen beim Klimaschutz die Kommunen und was kann in den Gemeinderäten dafür getan werden? \nAll diese Fragen möchte der Landtagskandidat Tayfun Tok mit dem Bevollmächtigten des Landes Baden-Württemberg beim Bund\, Dr. Andre Baumann\, diskutieren. Zuvor war Baumann Staatssekretär im baden-württembergischen Umweltministerium. \nAnmeldung an: team@tayfun-tok.de
URL:https://www.offene-grüne-liste-pleidelsheim.de/event/klimaschutz-wie-weiter-in-bawue/
LOCATION:Online\, Deutschland
END:VEVENT
END:VCALENDAR