BEGIN:VCALENDAR
VERSION:2.0
PRODID:-//Offene Grüne Liste Pleidelsheim - ECPv5.13.0//NONSGML v1.0//EN
CALSCALE:GREGORIAN
METHOD:PUBLISH
X-WR-CALNAME:Offene Grüne Liste Pleidelsheim
X-ORIGINAL-URL:https://www.offene-grüne-liste-pleidelsheim.de
X-WR-CALDESC:Veranstaltungen für Offene Grüne Liste Pleidelsheim
BEGIN:VTIMEZONE
TZID:Europe/Berlin
BEGIN:DAYLIGHT
TZOFFSETFROM:+0100
TZOFFSETTO:+0200
TZNAME:CEST
DTSTART:20200329T010000
END:DAYLIGHT
BEGIN:STANDARD
TZOFFSETFROM:+0200
TZOFFSETTO:+0100
TZNAME:CET
DTSTART:20201025T010000
END:STANDARD
END:VTIMEZONE
BEGIN:VEVENT
DTSTART;TZID=Europe/Berlin:20200123T193000
DTEND;TZID=Europe/Berlin:20200123T213000
DTSTAMP:20260421T103323
CREATED:20200118T075332Z
LAST-MODIFIED:20200118T075343Z
UID:867-1579807800-1579815000@www.offene-grüne-liste-pleidelsheim.de
SUMMARY:40 Jahre Grüne: Frauen-Politisches Gespräch mit Viktoria Kruse
DESCRIPTION:Wir feiern 40 Jahre Grüne – das bedeutet auch 40 Jahre feministische Partei. \nDie Feministinnen und Feministen waren von Anfang eine der Bewegungen\, die zentral für die Gründung unserer Partei ist. Wir freuen uns sehr\, in Anknüpfung an unseren frauenpolitischen Brunch Euch alle zu unserem frauenpolitischen Gespräch einzuladen. Viktoria Kruse\, unsere Ansprechpartnerin im Landesvorstand und langjährige Frauenpolitikerin wird uns besuchen. \nAn diesem Abend wollen wir zurückblicken: Wo standen wir damals\, was waren die Kämpfe und was haben wir erreicht? Wir wollen aber vor allem in die Gegenwart und Zukunft schauen: wo steht die Frauenbewegung heute\, vor welchen Herausforderungen stehen wir und welche Ziele haben wir für die Zukunft? \n  \nBeginn: 23. Januar 19:45 Uhr \nGRÜNE KV Ludwigsburg \nMIK (Museum – Info – Kunst)\, Eberhardtstr. 1\, Ludwigsburg (Eingang an der Wilhelmstraße\, Bushaltestelle Rathaus) \nDer Raum im Stadtmuseum MIK ist ab 19.15 Uhr geöffnet\, so bleibt etwas Zeit zum Essen oder Kennenlernen.
URL:https://www.offene-grüne-liste-pleidelsheim.de/event/40-jahre-gruene-frauen-politisches-gespraech-mit-viktoria-kruse/
LOCATION:MIK (Museum – Info – Kunst)\, Eberhardstraße 1\, Ludwigsburg\, Baden-Württemberg\, 71634\, Deutschland
END:VEVENT
END:VCALENDAR